BEGIN:VCALENDAR
VERSION:2.0
PRODID:-//wp-events-plugin.com//7.2.3.1//EN
TZID:Europe/Vienna
X-WR-TIMEZONE:Europe/Vienna
BEGIN:VEVENT
UID:39@ferrochalybbsia.at
DTSTART;TZID=Europe/Vienna:20260422T193000
DTEND;TZID=Europe/Vienna:20260422T213000
DTSTAMP:20250411T142632Z
URL:http://www.ferrochalybbsia.at/events/2599wahlwuerstelsippung-wir-fuett
 ern-an/
SUMMARY:2599	Wahlwürstelsippung - wir füttern an
DESCRIPTION:
CATEGORIES:Sippungsfolge
LOCATION:219 Freysingerburg\, Unterer Stadtplatz 25\, Waidhofen an der Ybbs
 \, Niederösterreich\, 3340\, Mostviertel\, Österreich
X-APPLE-STRUCTURED-LOCATION;VALUE=URI;X-ADDRESS=Unterer Stadtplatz 25\, Wai
 dhofen an der Ybbs\, Niederösterreich\, 3340\, Mostviertel\, Österreich;
 X-APPLE-RADIUS=100;X-TITLE=219 Freysingerburg:geo:0,0
END:VEVENT
BEGIN:VTIMEZONE
TZID:Europe/Vienna
X-LIC-LOCATION:Europe/Vienna
BEGIN:DAYLIGHT
DTSTART:20260329T030000
TZOFFSETFROM:+0100
TZOFFSETTO:+0200
TZNAME:CEST
END:DAYLIGHT
END:VTIMEZONE
END:VCALENDAR